BEGIN:VCALENDAR
VERSION:2.0
PRODID:Events Booking
BEGIN:VEVENT
UID:69e5958d2458a
SUMMARY:TALLER GSA CDMX
DESCRIPTION:Grupo Viviendo AbstinenteTaller GSA CDMX
 3\, 4 Y 5 de Noviemb
 re
 Casa De Retiro CrucesMoneda 85-A\, Tlalpan Centro\, CDMX
DTSTART:20231103T040000Z
DTEND:20231105T040000Z
DTSTAMP:20230922T034903Z
ORGANIZER;CN=GreySheeters Anonymous:MAILTO:webdev@greysheet.org
END:VEVENT
END:VCALENDAR