BEGIN:VCALENDAR
VERSION:2.0
PRODID:Events Booking
BEGIN:VEVENT
UID:69eba262f0009
SUMMARY:The 33rd Annual GSA New York City RoundUp
DESCRIPTION:Saturday\, October 28 &amp\; Sunday\, October 29\, 2023
 Senat
 or Robert F. Wagner Middle School220 E. 76th Street between 2nd &amp\; 3rd
  AvenuesNew York\, NY 10021
 Volunteers Needed and Appreciated!
 Visit t
 he webpage:&nbsp\;NYC Round Up 2023
DTSTART:20231028T040000Z
DTEND:20231029T040000Z
DTSTAMP:20230623T065903Z
ORGANIZER;CN=GreySheeters Anonymous:MAILTO:webdev@greysheet.org
END:VEVENT
END:VCALENDAR