BEGIN:VCALENDAR
VERSION:2.0
PRODID:Events Booking
BEGIN:VEVENT
UID:69eb5dd30e0e5
SUMMARY:GreySheeters Anonymous World Service Conference 2024 Delegate Train
 ing 2
DESCRIPTION:Congratulations on being elected as a delegate to the World Ser
 vice Conference!
 The World Service Conference of GreySheeters Anonymous 
 World Service is a business meeting where we make decisions for the future
  of our fellowship. All registered delegates attend two training sessions 
 so they can participate effectively as delegates in the worldwide group co
 nscience.
 You will have two chances to attend each of the two trainings.
  The Sunday and Tuesday session of each training covers the same material.
 
 The notes including Q&amp\;A will be published on greysheet.org with a 
 link in Service Matters. Subscribe to Service Matters https://www.greyshee
 t.org/world-services/service-matters.
 Sunday October 6 from 10:00am ET t
 o 11:30am ET
 Tuesday October 8 from 6:00pm ET to 7:30pm ET
DTSTART:20241008T040000Z
DTSTAMP:20230206T021157Z
ORGANIZER;CN=GreySheeters Anonymous:MAILTO:webdev@greysheet.org
END:VEVENT
END:VCALENDAR