BEGIN:VCALENDAR
VERSION:2.0
PRODID:Events Booking
BEGIN:VEVENT
UID:69e72ff6378d5
SUMMARY:World Service Conference 2022
DESCRIPTION:7th World Service Conference
 Sunday October 23rd&nbsp\;2022 w
 ith a “rain date” of Sunday October 30th&nbsp\;2022 on Zoom.
 Check i
 n 8:45am to 9:15am ET. No admission after 9:30am ET. Estimated end time 2:
 25pm ET.
 Registration closed.
DTSTART:20221023T130000Z
DTEND:20221023T183000Z
DTSTAMP:20220226T060004Z
ORGANIZER;CN=GreySheeters Anonymous:MAILTO:webdev@greysheet.org
END:VEVENT
END:VCALENDAR